BEGIN:VCALENDAR
VERSION:2.0
PRODID:-//ChamberMaster//Event Calendar 2.0//EN
METHOD:PUBLISH
X-PUBLISHED-TTL:P3D
REFRESH-INTERVAL:P3D
CALSCALE:GREGORIAN
BEGIN:VEVENT
DTSTART:20110218T060000Z
DTEND:20110218T060000Z
X-MICROSOFT-CDO-ALLDAYEVENT:FALSE
SUMMARY:Gibby's Wine Den ~ Fridays@5
DESCRIPTION:Enjoy the musical sounds of local artist\, Denny King\, when you stop by Gibby's Wine Bar this evening. Meet friends and enjoy a glass of wine\, a selection from our Tidbits menu or share a bottle for anominal corkage fee.
X-ALT-DESC;FMTTYPE=text/html:Enjoy the musical sounds of local artist\, Denny King\, when you stop by Gibby's Wine Bar this evening. Meet friends and enjoy a glass of wine\, a selection from our Tidbits menu or share a bottle for anominal corkage fee.
LOCATION:Gibby's Wine Den
UID:e.1902.134
SEQUENCE:3
DTSTAMP:20260423T170017Z
URL:https://business.bataviachamber.org/events/details/gibby-s-wine-den-fridays-5-02-18-2011-134
END:VEVENT

END:VCALENDAR
