BEGIN:VCALENDAR
VERSION:2.0
PRODID:-//ChamberMaster//Event Calendar 2.0//EN
METHOD:PUBLISH
X-PUBLISHED-TTL:P3D
REFRESH-INTERVAL:P3D
CALSCALE:GREGORIAN
BEGIN:VEVENT
DTSTART:20120217T060000Z
DTEND:20120217T060000Z
X-MICROSOFT-CDO-ALLDAYEVENT:FALSE
SUMMARY:Gibby's Wine Den ~ Fridays@5
DESCRIPTION:It's Friday!  Get to Gibby's for a great night featuring live music from "Dave's Not Here"\, wines bythe glass and delicious nibbles from our Tidbits menu. Call your friends and meet at Gibby's tonight!
X-ALT-DESC;FMTTYPE=text/html:It's Friday!  Get to Gibby's for a great night featuring live music from "Dave's Not Here"\, wines bythe glass and delicious nibbles from our Tidbits menu. Call your friends and meet at Gibby's tonight!
LOCATION:Gibby's Wine Den
UID:e.1902.491
SEQUENCE:3
DTSTAMP:20260422T210113Z
URL:https://business.bataviachamber.org/events/details/gibby-s-wine-den-fridays-5-02-17-2012-491
END:VEVENT

END:VCALENDAR
