BEGIN:VCALENDAR
VERSION:2.0
PRODID:-//ChamberMaster//Event Calendar 2.0//EN
METHOD:PUBLISH
X-PUBLISHED-TTL:P3D
REFRESH-INTERVAL:P3D
CALSCALE:GREGORIAN
BEGIN:VEVENT
DTSTART:20100212T060000Z
DTEND:20100212T060000Z
X-MICROSOFT-CDO-ALLDAYEVENT:FALSE
SUMMARY:Gibby's Wine Den ~ Fridays@5
DESCRIPTION:Meet your friends tonight at Gibby's Wine Bar for a great night with declicious wines by the glass and nibbles from our Tidbits menu.  Tonight's featured performer is       James Schlicher\, playing all your favorites!  What a nice way to relax after a busy work week!
X-ALT-DESC;FMTTYPE=text/html:Meet your friends tonight at Gibby's Wine Bar for a great night with declicious wines by the glass and nibbles from our Tidbits menu.  Tonight's featured performer is       James Schlicher\, playing all your favorites!  What a nice way to relax after a busy work week!\n
LOCATION:Gibby's Wine Den
UID:e.1902.1092
SEQUENCE:3
DTSTAMP:20260424T143606Z
URL:https://business.bataviachamber.org/events/details/gibby-s-wine-den-fridays-5-02-12-2010-1092
END:VEVENT

END:VCALENDAR
