BEGIN:VCALENDAR
VERSION:2.0
PRODID:-//ChamberMaster//Event Calendar 2.0//EN
METHOD:PUBLISH
X-PUBLISHED-TTL:P3D
REFRESH-INTERVAL:P3D
CALSCALE:GREGORIAN
BEGIN:VEVENT
DTSTART:20110204T060000Z
DTEND:20110204T060000Z
X-MICROSOFT-CDO-ALLDAYEVENT:FALSE
SUMMARY:Gibby's Wine Den ~ Fridays@5
DESCRIPTION:Meet friends at Gibby's this evening and enjoy musical entertainment by local group "Random Acts ofJazz". It's a great way to relax after a long week.
X-ALT-DESC;FMTTYPE=text/html:Meet friends at Gibby's this evening and enjoy musical entertainment by local group "Random Acts ofJazz". It's a great way to relax after a long week.
LOCATION:Gibby's Wine Den
UID:e.1902.127
SEQUENCE:3
DTSTAMP:20260423T170018Z
URL:https://business.bataviachamber.org/events/details/gibby-s-wine-den-fridays-5-02-04-2011-127
END:VEVENT

END:VCALENDAR
