BEGIN:VCALENDAR
VERSION:2.0
PRODID:-//ChamberMaster//Event Calendar 2.0//EN
METHOD:PUBLISH
X-PUBLISHED-TTL:P3D
REFRESH-INTERVAL:P3D
CALSCALE:GREGORIAN
BEGIN:VEVENT
DTSTART:20110128T060000Z
DTEND:20110128T060000Z
X-MICROSOFT-CDO-ALLDAYEVENT:FALSE
SUMMARY:Gibby's Wine Den ~ Fridays@5
DESCRIPTION:Gather with friends around Gibby's Wine Bar after a long week and enjoy a glass from our Bar menu while relaxing to the sounds of local musician\, James Schlicher.
X-ALT-DESC;FMTTYPE=text/html:Gather with friends around Gibby's Wine Bar after a long week and enjoy a glass from our Bar menu while relaxing to the sounds of local musician\, James Schlicher.
LOCATION:Gibby's Wine Den
UID:e.1902.118
SEQUENCE:3
DTSTAMP:20260423T183744Z
URL:https://business.bataviachamber.org/events/details/gibby-s-wine-den-fridays-5-01-28-2011-118
END:VEVENT

END:VCALENDAR
