BEGIN:VCALENDAR
VERSION:2.0
PRODID:-//ChamberMaster//Event Calendar 2.0//EN
METHOD:PUBLISH
X-PUBLISHED-TTL:P3D
REFRESH-INTERVAL:P3D
CALSCALE:GREGORIAN
BEGIN:VEVENT
DTSTART:20120127T060000Z
DTEND:20120127T060000Z
X-MICROSOFT-CDO-ALLDAYEVENT:FALSE
SUMMARY:Gibby's Wine Den ~ Fridays@5
DESCRIPTION:It's Friday!  So\, you should come to Gibby's and relax after the long week!  Enjoy live music from "Random Acts of Jazz"\, delicious wines by the glass and a small plate from our seasonal Tidbits menu.
X-ALT-DESC;FMTTYPE=text/html:It's Friday!  So\, you should come to Gibby's and relax after the long week!  Enjoy live music from "Random Acts of Jazz"\, delicious wines by the glass and a small plate from our seasonal Tidbits menu.
LOCATION:Gibby's Wine Den
UID:e.1902.485
SEQUENCE:3
DTSTAMP:20260422T223711Z
URL:https://business.bataviachamber.org/events/details/gibby-s-wine-den-fridays-5-01-27-2012-485
END:VEVENT

END:VCALENDAR
