BEGIN:VCALENDAR
VERSION:2.0
PRODID:-//ChamberMaster//Event Calendar 2.0//EN
METHOD:PUBLISH
X-PUBLISHED-TTL:P3D
REFRESH-INTERVAL:P3D
CALSCALE:GREGORIAN
BEGIN:VEVENT
DTSTART:20100122T060000Z
DTEND:20100122T060000Z
X-MICROSOFT-CDO-ALLDAYEVENT:FALSE
SUMMARY:Gibby's Wine Den ~ Fridays@5
DESCRIPTION:Meet at Gibby's Wine Bar tonight for a great eveing of live entertainment by "Random Acts of Jazz"\,wines by the glass and small plates from out Tidbits Menu.  What a wonderful way to end your hecticwork week...grab your friends and relax at Gibby's!
X-ALT-DESC;FMTTYPE=text/html:Meet at Gibby's Wine Bar tonight for a great eveing of live entertainment by "Random Acts of Jazz"\,wines by the glass and small plates from out Tidbits Menu.  What a wonderful way to end your hecticwork week...grab your friends and relax at Gibby's! \n
LOCATION:Gibby's Wine Den
UID:e.1902.1087
SEQUENCE:3
DTSTAMP:20260424T161851Z
URL:https://business.bataviachamber.org/events/details/gibby-s-wine-den-fridays-5-01-22-2010-1087
END:VEVENT

END:VCALENDAR
