BEGIN:VCALENDAR
VERSION:2.0
PRODID:-//ChamberMaster//Event Calendar 2.0//EN
METHOD:PUBLISH
X-PUBLISHED-TTL:P3D
REFRESH-INTERVAL:P3D
CALSCALE:GREGORIAN
BEGIN:VEVENT
DTSTART:20110121T060000Z
DTEND:20110121T060000Z
X-MICROSOFT-CDO-ALLDAYEVENT:FALSE
SUMMARY:Gibby's Wine Den ~ Fridays@5
DESCRIPTION:This evening stop in and enjoy the musical performance by "Denny King" while relaxing with a glass from our Wine Bar and a selection from our Tidbits Menu!
X-ALT-DESC;FMTTYPE=text/html:This evening stop in and enjoy the musical performance by "Denny King" while relaxing with a glass from our Wine Bar and a selection from our Tidbits Menu!
LOCATION:Gibby's Wine Den
UID:e.1902.115
SEQUENCE:3
DTSTAMP:20260423T183637Z
URL:https://business.bataviachamber.org/events/details/gibby-s-wine-den-fridays-5-01-21-2011-115
END:VEVENT

END:VCALENDAR
