BEGIN:VCALENDAR
VERSION:2.0
PRODID:-//ChamberMaster//Event Calendar 2.0//EN
METHOD:PUBLISH
X-PUBLISHED-TTL:P3D
REFRESH-INTERVAL:P3D
CALSCALE:GREGORIAN
BEGIN:VEVENT
DTSTART:20120120T060000Z
DTEND:20120120T060000Z
X-MICROSOFT-CDO-ALLDAYEVENT:FALSE
SUMMARY:Gibby's Wine Den ~ Fridays@5
DESCRIPTION:Meet your friends at Gibby's tonight!  We'll have wines by the glass...or share a bottle with your friends and enjoy a small plate from our seasonal Tidbits menu.  Live music tonight is from "Jack Ness Duo" and if you haven't already...take in this month's art exhibit featuring\, Mary Ellen Segraves.
X-ALT-DESC;FMTTYPE=text/html:Meet your friends at Gibby's tonight!  We'll have wines by the glass...or share a bottle with your friends and enjoy a small plate from our seasonal Tidbits menu.  Live music tonight is from "Jack Ness Duo" and if you haven't already...take in this month's art exhibit featuring\, Mary Ellen Segraves.
LOCATION:Gibby's Wine Den
UID:e.1902.484
SEQUENCE:3
DTSTAMP:20260422T225131Z
URL:https://business.bataviachamber.org/events/details/gibby-s-wine-den-fridays-5-01-20-2012-484
END:VEVENT

END:VCALENDAR
