BEGIN:VCALENDAR
VERSION:2.0
PRODID:-//ChamberMaster//Event Calendar 2.0//EN
METHOD:PUBLISH
X-PUBLISHED-TTL:P3D
REFRESH-INTERVAL:P3D
CALSCALE:GREGORIAN
BEGIN:VEVENT
DTSTART:20100115T060000Z
DTEND:20100115T060000Z
X-MICROSOFT-CDO-ALLDAYEVENT:FALSE
SUMMARY:Gibby's Wine Den ~ Fridays@5
DESCRIPTION:Join us tonight for a great night of live entertainment from James Schlicher\, delicious wines by theglass and small plates from our Tidbits menu!  Wander through the aisles of wines from around the world and maybe find a new favorite!  It's a great night at Gibby's and we look forward to seeing youthere!
X-ALT-DESC;FMTTYPE=text/html:Join us tonight for a great night of live entertainment from James Schlicher\, delicious wines by theglass and small plates from our Tidbits menu!  Wander through the aisles of wines from around the world and maybe find a new favorite!  It's a great night at Gibby's and we look forward to seeing youthere! \n \n\n\n
LOCATION:Gibby's Wine Den
UID:e.1902.1085
SEQUENCE:3
DTSTAMP:20260424T161852Z
URL:https://business.bataviachamber.org/events/details/gibby-s-wine-den-fridays-5-01-15-2010-1085
END:VEVENT

END:VCALENDAR
