BEGIN:VCALENDAR
VERSION:2.0
PRODID:-//ChamberMaster//Event Calendar 2.0//EN
METHOD:PUBLISH
X-PUBLISHED-TTL:P3D
REFRESH-INTERVAL:P3D
CALSCALE:GREGORIAN
BEGIN:VEVENT
DTSTART:20120113T060000Z
DTEND:20120113T060000Z
X-MICROSOFT-CDO-ALLDAYEVENT:FALSE
SUMMARY:Gibby's Wine Den ~ Fridays@5
DESCRIPTION:Come to Gibby's Friday night for a great night!  We'll have live music from "Riekei Troubadour"\, wines by the glass and our new "Art By The Glass" exhibit.  Plus\, it's "Cause There Is A Need" tonight\,where a portion of the bar's proceedes will be donated to a local charity.  Call your friends and meet at Gibby's tonight!
X-ALT-DESC;FMTTYPE=text/html:Come to Gibby's Friday night for a great night!  We'll have live music from "Riekei Troubadour"\, wines by the glass and our new "Art By The Glass" exhibit.  Plus\, it's "Cause There Is A Need" tonight\,where a portion of the bar's proceedes will be donated to a local charity.  Call your friends and meet at Gibby's tonight!
LOCATION:Gibby's Wine Den
UID:e.1902.483
SEQUENCE:3
DTSTAMP:20260422T232914Z
URL:https://business.bataviachamber.org/events/details/gibby-s-wine-den-fridays-5-01-13-2012-483
END:VEVENT

END:VCALENDAR
