BEGIN:VCALENDAR
VERSION:2.0
PRODID:-//ChamberMaster//Event Calendar 2.0//EN
METHOD:PUBLISH
X-PUBLISHED-TTL:P3D
REFRESH-INTERVAL:P3D
CALSCALE:GREGORIAN
BEGIN:VEVENT
DTSTART:20110107T060000Z
DTEND:20110107T060000Z
X-MICROSOFT-CDO-ALLDAYEVENT:FALSE
SUMMARY:Gibby's Wine Den ~ Fridays@5
DESCRIPTION:Gather at Gibby's tonight for Fridays@5! Tonight's featured performer is "Dave's Not Here". Enjoy wines by the glass\, or share a bottle with friends! Pair your wine with a selection from our Tidbits menu. Wander through the stacks of wine\, accessories and home decor\, as well as our new art exhibit!Get to Gibby's and have a great Friday night!
X-ALT-DESC;FMTTYPE=text/html:Gather at Gibby's tonight for Fridays@5! Tonight's featured performer is "Dave's Not Here". Enjoy wines by the glass\, or share a bottle with friends! Pair your wine with a selection from our Tidbits menu. Wander through the stacks of wine\, accessories and home decor\, as well as our new art exhibit!Get to Gibby's and have a great Friday night!
LOCATION:Gibby's Wine Den
UID:e.1902.113
SEQUENCE:3
DTSTAMP:20260423T183612Z
URL:https://business.bataviachamber.org/events/details/gibby-s-wine-den-fridays-5-01-07-2011-113
END:VEVENT

END:VCALENDAR
