BEGIN:VCALENDAR
VERSION:2.0
PRODID:-//ChamberMaster//Event Calendar 2.0//EN
METHOD:PUBLISH
X-PUBLISHED-TTL:P3D
REFRESH-INTERVAL:P3D
CALSCALE:GREGORIAN
BEGIN:VEVENT
DTSTART:20100214T060000Z
DTEND:20100214T060000Z
X-MICROSOFT-CDO-ALLDAYEVENT:FALSE
SUMMARY:Gibby's Wine Den ~ Food and Wine Pairing Part II\, Waubonsee
DESCRIPTION:Building upon the basic principals learned in Part I of Food and Wine Pairing\, this course allows the opportunity to get specific on matching specific foods and menus to the right wine or range of wine. Learn the differences between which wine to select when it’s the same dish\, only in a different sauce. Focus will be on specific dishes and specific sauces\, as well as selecting the right wines foreach course of a multiple course meal. Participants will emerge confident in their ability to tackle most menu situations. This is a highly interactive class. (Sample 6 wines)\nFebruary 21 4 - 6\nReservations required\nContact Waubonsee Community College Community Education office to register\, 630-466-7900. This class will be held at Gibby's Wine Den.\nAll Class Fees include a $5 coupon good for purchases made that day
X-ALT-DESC;FMTTYPE=text/html:Building upon the basic principals learned in Part I of Food and Wine Pairing\, this course allows the opportunity to get specific on matching specific foods and menus to the right wine or range of wine. Learn the differences between which wine to select when it’s the same dish\, only in a different sauce. Focus will be on specific dishes and specific sauces\, as well as selecting the right wines foreach course of a multiple course meal. Participants will emerge confident in their ability to tackle most menu situations. This is a highly interactive class. (Sample 6 wines)\nFebruary 21 4 - 6\nReservations required\nContact Waubonsee Community College Community Education office to register\, 630-466-7900. This class will be held at Gibby's Wine Den.\nAll Class Fees include a $5 coupon good for purchases made that day\n
LOCATION:Gibby's Wine Den
UID:e.1902.1094
SEQUENCE:3
DTSTAMP:20260420T175729Z
URL:https://business.bataviachamber.org/events/details/gibby-s-wine-den-food-and-wine-pairing-part-ii-waubonsee-02-14-2010-1094
END:VEVENT

END:VCALENDAR
