BEGIN:VCALENDAR
VERSION:2.0
PRODID:-//ChamberMaster//Event Calendar 2.0//EN
METHOD:PUBLISH
X-PUBLISHED-TTL:P3D
REFRESH-INTERVAL:P3D
CALSCALE:GREGORIAN
BEGIN:VEVENT
DTSTART:20100926T050000Z
DTEND:20100926T050000Z
X-MICROSOFT-CDO-ALLDAYEVENT:FALSE
SUMMARY:Gibby's Wine Den ~ Food and Wine Pairing Class with Waubons
DESCRIPTION:Go from basics to expert in this interactive class. Part I: Learn which wine “cools” spicy foods orcompliments enjoy salty foods. What about lettuce???? This is a fun way to use the senses and experience the interrelationship of basic tastes of sweet\, sour\, salt and bitter with wine. Part II: Building upon the basic principals learned in Part I of Food and Wine Pairing\, this course allows the opportunity to get specific on matching certain foods and menus to the right wine or range of wines. Learn different wines to select with the same dish or with a different sauce. Focus will be on certaindishes and particular sauces\, as well as selecting the right wines for each course of a multiple course meal. Participants will emerge confident in their ability to tackle most menu situations. Thisis a highly interactive class. Participants will sample five wines at each session September 26 & October 3 at 4pm. Reservations are required and can be made through Waubonsee Community College (630)466-7900 or www.waubonsee.edu Classes will be held at Gibby's Wine Den
X-ALT-DESC;FMTTYPE=text/html:Go from basics to expert in this interactive class. Part I: Learn which wine “cools” spicy foods orcompliments enjoy salty foods. What about lettuce???? This is a fun way to use the senses and experience the interrelationship of basic tastes of sweet\, sour\, salt and bitter with wine. Part II: Building upon the basic principals learned in Part I of Food and Wine Pairing\, this course allows the opportunity to get specific on matching certain foods and menus to the right wine or range of wines. Learn different wines to select with the same dish or with a different sauce. Focus will be on certaindishes and particular sauces\, as well as selecting the right wines for each course of a multiple course meal. Participants will emerge confident in their ability to tackle most menu situations. Thisis a highly interactive class. Participants will sample five wines at each session September 26 & October 3 at 4pm. Reservations are required and can be made through Waubonsee Community College (630)466-7900 or www.waubonsee.edu Classes will be held at Gibby's Wine Den   \n
LOCATION:Gibby's Wine Den
UID:e.1902.49
SEQUENCE:3
DTSTAMP:20260420T061220Z
URL:https://business.bataviachamber.org/events/details/gibby-s-wine-den-food-and-wine-pairing-class-with-waubons-09-26-2010-49
END:VEVENT

END:VCALENDAR
