BEGIN:VCALENDAR
VERSION:2.0
PRODID:-//ChamberMaster//Event Calendar 2.0//EN
METHOD:PUBLISH
X-PUBLISHED-TTL:P3D
REFRESH-INTERVAL:P3D
CALSCALE:GREGORIAN
BEGIN:VEVENT
DTSTART:20110220T060000Z
DTEND:20110220T060000Z
X-MICROSOFT-CDO-ALLDAYEVENT:FALSE
SUMMARY:Gibby's Wine Den ~ Food and Wine Pairing Class with Waubons
DESCRIPTION:Go from basics to expert in this interactive class introducing ideas for the perfect way to pair your favorite meals. This class is offered through Waubonsee Community College - call(630-466-7900) orcheck their website for more information or to register.
X-ALT-DESC;FMTTYPE=text/html:Go from basics to expert in this interactive class introducing ideas for the perfect way to pair your favorite meals. This class is offered through Waubonsee Community College - call(630-466-7900) orcheck their website for more information or to register.
LOCATION:Gibby's Wine Den
UID:e.1902.135
SEQUENCE:3
DTSTAMP:20260423T172028Z
URL:https://business.bataviachamber.org/events/details/gibby-s-wine-den-food-and-wine-pairing-class-with-waubons-02-20-2011-135
END:VEVENT

END:VCALENDAR
