BEGIN:VCALENDAR
VERSION:2.0
PRODID:-//ChamberMaster//Event Calendar 2.0//EN
METHOD:PUBLISH
X-PUBLISHED-TTL:P3D
REFRESH-INTERVAL:P3D
CALSCALE:GREGORIAN
BEGIN:VEVENT
DTSTART:20110827T050000Z
DTEND:20110827T050000Z
X-MICROSOFT-CDO-ALLDAYEVENT:FALSE
SUMMARY:Gibby's Wine Den ~ Fondue at the Bar!
DESCRIPTION:The local farmstands are abundant with fresh produce and Gibby's has selected some favorites for dipping in delectable fondue recipes. Each recipe is paired with a wine that will enhance the culinaryexperience.  This menu will be available all day on  Friday\, August 26 and Saturday\, August 27.  Stop in and sip 'n dip the prizes of the season!
X-ALT-DESC;FMTTYPE=text/html:The local farmstands are abundant with fresh produce and Gibby's has selected some favorites for dipping in delectable fondue recipes. Each recipe is paired with a wine that will enhance the culinaryexperience.  This menu will be available all day on  Friday\, August 26 and Saturday\, August 27.  Stop in and sip 'n dip the prizes of the season!
LOCATION:Gibby's Wine Den
UID:e.1902.341
SEQUENCE:3
DTSTAMP:20260419T121004Z
URL:https://business.bataviachamber.org/events/details/gibby-s-wine-den-fondue-at-the-bar-08-27-2011-341
END:VEVENT

END:VCALENDAR
