BEGIN:VCALENDAR
VERSION:2.0
PRODID:-//ChamberMaster//Event Calendar 2.0//EN
METHOD:PUBLISH
X-PUBLISHED-TTL:P3D
REFRESH-INTERVAL:P3D
CALSCALE:GREGORIAN
BEGIN:VEVENT
DTSTART:20111209T060000Z
DTEND:20111209T060000Z
X-MICROSOFT-CDO-ALLDAYEVENT:FALSE
SUMMARY:Gibby's Wine Den ~ Fall Wine Tasting Series: Holiday Favori
DESCRIPTION:Shake off some of that holiday stress tonight at Gibby's!  Try some of our favorite holiday wines tonight at our wine tasting ($5 fee) and listen to live music!  Sip while you shop for everyone on your list - can you think of a better way to do your holiday shopping?
X-ALT-DESC;FMTTYPE=text/html:Shake off some of that holiday stress tonight at Gibby's!  Try some of our favorite holiday wines tonight at our wine tasting ($5 fee) and listen to live music!  Sip while you shop for everyone on your list - can you think of a better way to do your holiday shopping?
LOCATION:Gibby's Wine Den
UID:e.1902.451
SEQUENCE:3
DTSTAMP:20260423T001853Z
URL:https://business.bataviachamber.org/events/details/gibby-s-wine-den-fall-wine-tasting-series-holiday-favori-12-09-2011-451
END:VEVENT

END:VCALENDAR
