BEGIN:VCALENDAR
VERSION:2.0
PRODID:-//ChamberMaster//Event Calendar 2.0//EN
METHOD:PUBLISH
X-PUBLISHED-TTL:P3D
REFRESH-INTERVAL:P3D
CALSCALE:GREGORIAN
BEGIN:VEVENT
DTSTART:20091017T050000Z
DTEND:20091017T050000Z
X-MICROSOFT-CDO-ALLDAYEVENT:FALSE
SUMMARY:Gibby's Wine Den ~ Fall Family Festival
DESCRIPTION:Bring the kids to Gibby's to enjoy the beautiful Fall weather and have some Halloween fun!  Kids cantrick-or-treat at all the stores in the shopping center!  Bring your own clothes and materials fora head and build your very own scarecrow!  There will be other Halloween happenings with pumpkin hopscotch\, Halloween Baggo\, paper corn mazes and more!  We'll have live musical entertainment\, popcornand rootbeer!  Bring the kids for a fun afternoon!  This is a FREE event!  And afterward\, come to Gibby's to taste some delicious wines and wander through the aisles of Halloween decor!
X-ALT-DESC;FMTTYPE=text/html:Bring the kids to Gibby's to enjoy the beautiful Fall weather and have some Halloween fun!  Kids cantrick-or-treat at all the stores in the shopping center!  Bring your own clothes and materials fora head and build your very own scarecrow!  There will be other Halloween happenings with pumpkin hopscotch\, Halloween Baggo\, paper corn mazes and more!  We'll have live musical entertainment\, popcornand rootbeer!  Bring the kids for a fun afternoon!  This is a FREE event!  And afterward\, come to Gibby's to taste some delicious wines and wander through the aisles of Halloween decor!\n
LOCATION:Gibby's Wine Den
UID:e.1902.1055
SEQUENCE:3
DTSTAMP:20260421T030202Z
URL:https://business.bataviachamber.org/events/details/gibby-s-wine-den-fall-family-festival-10-17-2009-1055
END:VEVENT

END:VCALENDAR
