BEGIN:VCALENDAR
VERSION:2.0
PRODID:-//ChamberMaster//Event Calendar 2.0//EN
METHOD:PUBLISH
X-PUBLISHED-TTL:P3D
REFRESH-INTERVAL:P3D
CALSCALE:GREGORIAN
BEGIN:VEVENT
DTSTART:20110310T060000Z
DTEND:20110310T060000Z
X-MICROSOFT-CDO-ALLDAYEVENT:FALSE
SUMMARY:Gibby's Wine Den ~ Entertaining Made Easy with Brandy & Win
DESCRIPTION:Enjoy an evening of culinary pampering Gibby’s Wine Den. \nChef Brandy Fernow will be leading the cooking demonstration of four appetizers that will work well for your spring and summer\nentertainingopportunities. While you are learning all of her secrets and sampling the appetizers\, wine paired toeach item will be served. Each guest will receive the recipes at this Tapas style event.\n$25/person. Space is limited\, reservations are required.\nPremium Event.
X-ALT-DESC;FMTTYPE=text/html:Enjoy an evening of culinary pampering Gibby’s Wine Den. \nChef Brandy Fernow will be leading the cooking demonstration of four appetizers that will work well for your spring and summer\nentertainingopportunities. While you are learning all of her secrets and sampling the appetizers\, wine paired toeach item will be served. Each guest will receive the recipes at this Tapas style event.\n$25/person. Space is limited\, reservations are required.\nPremium Event.\n\n
LOCATION:Gibby's Wine Den
UID:e.1902.176
SEQUENCE:3
DTSTAMP:20260419T194402Z
URL:https://business.bataviachamber.org/events/details/gibby-s-wine-den-entertaining-made-easy-with-brandy-win-03-10-2011-176
END:VEVENT

END:VCALENDAR
