BEGIN:VCALENDAR
VERSION:2.0
PRODID:-//ChamberMaster//Event Calendar 2.0//EN
METHOD:PUBLISH
X-PUBLISHED-TTL:P3D
REFRESH-INTERVAL:P3D
CALSCALE:GREGORIAN
BEGIN:VEVENT
DTSTART:20100328T050000Z
DTEND:20100404T050000Z
X-MICROSOFT-CDO-ALLDAYEVENT:FALSE
SUMMARY:Gibby's Wine Den ~ Egg Hunt for Discounts
DESCRIPTION:Hunt for the egg that contains the prize! Beginning March 28 a basket of colorful eggs will be at the counter at Gibby’s Wine Den filled with candy and a discount coupon. When you have completed yourpurchase\, simply select your egg\, crack it open\, and enjoy the candy and savings! The discount willbe applied to your entire wine order. No additional items may be added to the order after cracking the egg. The coupons range from a 5 – 20% discount. One lucky egg contains a 50% off coupon. Your payment will be applied to your Corkhead account!\n\nThe eggs will hop away on Sunday April 4\, 2010. Shop at Gibby’s during this special week and crack open the savings!
X-ALT-DESC;FMTTYPE=text/html:Hunt for the egg that contains the prize! Beginning March 28 a basket of colorful eggs will be at the counter at Gibby’s Wine Den filled with candy and a discount coupon. When you have completed yourpurchase\, simply select your egg\, crack it open\, and enjoy the candy and savings! The discount willbe applied to your entire wine order. No additional items may be added to the order after cracking the egg. The coupons range from a 5 – 20% discount. One lucky egg contains a 50% off coupon. Your payment will be applied to your Corkhead account!\n\nThe eggs will hop away on Sunday April 4\, 2010. Shop at Gibby’s during this special week and crack open the savings!\n \n
LOCATION:Gibby's Wine Den
UID:e.1902.1136
SEQUENCE:3
DTSTAMP:20260420T162158Z
URL:https://business.bataviachamber.org/events/details/gibby-s-wine-den-egg-hunt-for-discounts-03-28-2010-1136
END:VEVENT

END:VCALENDAR
