BEGIN:VCALENDAR
VERSION:2.0
PRODID:-//ChamberMaster//Event Calendar 2.0//EN
METHOD:PUBLISH
X-PUBLISHED-TTL:P3D
REFRESH-INTERVAL:P3D
CALSCALE:GREGORIAN
BEGIN:VEVENT
DTSTART:20110417T050000Z
DTEND:20110423T050000Z
X-MICROSOFT-CDO-ALLDAYEVENT:FALSE
SUMMARY:Gibby's Wine Den ~ Easter Savings Event
DESCRIPTION:This is "Your Kind of Easter Egg Hunt"! Shop through the wines and decor at Gibby's and when you'reready to check out\, select an egg from our Easter basket. Open for candy AND savings - from 5-50% off your purchase!! (Your selections must be complete before cracking the egg.) Stop in any time between April 17 and April 23 - you know who hops away with the savings April 24th!
X-ALT-DESC;FMTTYPE=text/html:This is "Your Kind of Easter Egg Hunt"! Shop through the wines and decor at Gibby's and when you'reready to check out\, select an egg from our Easter basket. Open for candy AND savings - from 5-50% off your purchase!! (Your selections must be complete before cracking the egg.) Stop in any time between April 17 and April 23 - you know who hops away with the savings April 24th!
LOCATION:Gibby's Wine Den
UID:e.1902.190
SEQUENCE:3
DTSTAMP:20260419T180502Z
URL:https://business.bataviachamber.org/events/details/gibby-s-wine-den-easter-savings-event-04-17-2011-190
END:VEVENT

END:VCALENDAR
