BEGIN:VCALENDAR
VERSION:2.0
PRODID:-//ChamberMaster//Event Calendar 2.0//EN
METHOD:PUBLISH
X-PUBLISHED-TTL:P3D
REFRESH-INTERVAL:P3D
CALSCALE:GREGORIAN
BEGIN:VEVENT
DTSTART:20090724T050000Z
DTEND:20090724T050000Z
X-MICROSOFT-CDO-ALLDAYEVENT:FALSE
SUMMARY:Gibby's Wine Den ~ Craft Beer Tasting
DESCRIPTION:Join us for this incredible opportunity to taste and learn about the craft beers created by Two Brothers Brewing Company. Two Brothers is a growing family owned microbrewery\nlocated in Naperville andbrews some very unique beers. This event will feature beers currently carried by Gibby's along witha few new brews.\nGet it on your calendar to attend this beer tasting event at Gibby's on July 24 from 5-8 p.m.\nReservations are not required for this no-charge event.
X-ALT-DESC;FMTTYPE=text/html:Join us for this incredible opportunity to taste and learn about the craft beers created by Two Brothers Brewing Company. Two Brothers is a growing family owned microbrewery\nlocated in Naperville andbrews some very unique beers. This event will feature beers currently carried by Gibby's along witha few new brews.\nGet it on your calendar to attend this beer tasting event at Gibby's on July 24 from 5-8 p.m.\nReservations are not required for this no-charge event.
LOCATION:Gibby's Wine Den
UID:e.1902.967
SEQUENCE:3
DTSTAMP:20260421T070830Z
URL:https://business.bataviachamber.org/events/details/gibby-s-wine-den-craft-beer-tasting-07-24-2009-967
END:VEVENT

END:VCALENDAR
