BEGIN:VCALENDAR
VERSION:2.0
PRODID:-//ChamberMaster//Event Calendar 2.0//EN
METHOD:PUBLISH
X-PUBLISHED-TTL:P3D
REFRESH-INTERVAL:P3D
CALSCALE:GREGORIAN
BEGIN:VEVENT
DTSTART:20091003T050000Z
DTEND:20091003T050000Z
X-MICROSOFT-CDO-ALLDAYEVENT:FALSE
SUMMARY:Gibby's Wine Den ~ Cooking with Brandy and Wine
DESCRIPTION:Join us tonight for the ultimate wine and culinary experience in this wine tasting and hands on cooking class with Chef\, Brandy Fernow.  Brandy will share some culinary tips in a cooking demonstration\, then it will be your turn to roll up your sleeves to saute your way through a gourmet appetizer recipe.  After the cooking\, you'll enjoy a feast of appetizers!  Five delicious gourmet delights in all\, accompanied by wines\, selected to pair perfectly with your creations. \n\nThis is a premium eventand space is limited.  $50/person\, reservations are required.
X-ALT-DESC;FMTTYPE=text/html:Join us tonight for the ultimate wine and culinary experience in this wine tasting and hands on cooking class with Chef\, Brandy Fernow.  Brandy will share some culinary tips in a cooking demonstration\, then it will be your turn to roll up your sleeves to saute your way through a gourmet appetizer recipe.  After the cooking\, you'll enjoy a feast of appetizers!  Five delicious gourmet delights in all\, accompanied by wines\, selected to pair perfectly with your creations. \n\nThis is a premium eventand space is limited.  $50/person\, reservations are required.\n \n\n
LOCATION:Gibby's Wine Den
UID:e.1902.1017
SEQUENCE:3
DTSTAMP:20260421T025957Z
URL:https://business.bataviachamber.org/events/details/gibby-s-wine-den-cooking-with-brandy-and-wine-10-03-2009-1017
END:VEVENT

END:VCALENDAR
