BEGIN:VCALENDAR
VERSION:2.0
PRODID:-//ChamberMaster//Event Calendar 2.0//EN
METHOD:PUBLISH
X-PUBLISHED-TTL:P3D
REFRESH-INTERVAL:P3D
CALSCALE:GREGORIAN
BEGIN:VEVENT
DTSTART:20100930T050000Z
DTEND:20100930T050000Z
X-MICROSOFT-CDO-ALLDAYEVENT:FALSE
SUMMARY:Gibby's Wine Den ~ Celebration Design Holiday Preview
DESCRIPTION:How far away are the holidays? Closer than we think! Join the Gibby’s Wine Den Celebration Design staff on Thursday September 30 at 7 pm for an evening of sneak previews of this year’s holiday tips and trends. Sparkle\, texture\, color galore as the gems for this season are unveiled. Helpful tips to get your holiday decorating started in the right direction as well as the opportunity to be the firstto select the holiday treasures! Holiday fare will be available for sampling also with recipes to insure you are prepared. A special bar menu will be offered. Reservations required. Call us at 630.208.6424 or info@gibbys-wine.com.
X-ALT-DESC;FMTTYPE=text/html:How far away are the holidays? Closer than we think! Join the Gibby’s Wine Den Celebration Design staff on Thursday September 30 at 7 pm for an evening of sneak previews of this year’s holiday tips and trends. Sparkle\, texture\, color galore as the gems for this season are unveiled. Helpful tips to get your holiday decorating started in the right direction as well as the opportunity to be the firstto select the holiday treasures! Holiday fare will be available for sampling also with recipes to insure you are prepared. A special bar menu will be offered. Reservations required. Call us at 630.208.6424 or info@gibbys-wine.com.   \n
LOCATION:
UID:e.1902.51
SEQUENCE:3
DTSTAMP:20260420T060833Z
URL:https://business.bataviachamber.org/events/details/gibby-s-wine-den-celebration-design-holiday-preview-09-30-2010-51
END:VEVENT

END:VCALENDAR
