BEGIN:VCALENDAR
VERSION:2.0
PRODID:-//ChamberMaster//Event Calendar 2.0//EN
METHOD:PUBLISH
X-PUBLISHED-TTL:P3D
REFRESH-INTERVAL:P3D
CALSCALE:GREGORIAN
BEGIN:VEVENT
DTSTART:20090313T050000Z
DTEND:20090313T050000Z
X-MICROSOFT-CDO-ALLDAYEVENT:FALSE
SUMMARY:Gibby's Wine Den ~ Cause There Is A Need / Twilight Tasting
DESCRIPTION:Together\, you and Gibby's can help local organizations raise needed funds to help our community. Today\, Gibby's will donate a portion of the wine bar business to Mutual Ground\, who provides services for victims of domestic violence and abuse. So please join us for this wonderful evening with live\nentertainment by James Schlicher as well as a tasting of some delicious wines.
X-ALT-DESC;FMTTYPE=text/html:Together\, you and Gibby's can help local organizations raise needed funds to help our community. Today\, Gibby's will donate a portion of the wine bar business to Mutual Ground\, who provides services for victims of domestic violence and abuse. So please join us for this wonderful evening with live\nentertainment by James Schlicher as well as a tasting of some delicious wines.
LOCATION:Gibby's Wine Den
UID:e.1902.878
SEQUENCE:3
DTSTAMP:20260421T144052Z
URL:https://business.bataviachamber.org/events/details/gibby-s-wine-den-cause-there-is-a-need-twilight-tasting-03-13-2009-878
END:VEVENT

END:VCALENDAR
