BEGIN:VCALENDAR
VERSION:2.0
PRODID:-//ChamberMaster//Event Calendar 2.0//EN
METHOD:PUBLISH
X-PUBLISHED-TTL:P3D
REFRESH-INTERVAL:P3D
CALSCALE:GREGORIAN
BEGIN:VEVENT
DTSTART:20101007T050000Z
DTEND:20101007T050000Z
X-MICROSOFT-CDO-ALLDAYEVENT:FALSE
SUMMARY:Gibby's Wine Den ~ Bubbles & Beads
DESCRIPTION:Invite a couple of your friends and head over to K. Hollis Jewelers for an evening of bubbly and beads. The creative staff at K. Hollis will assist you in selecting your beads and designing a gorgeousset of earrings or a stunning bracelet while you sip on some bubbly and snacks. This may be your only chance to play in Karen’s Treasure Box! Space is limited. Reservations are required Earrings: $25Bracelet $40 Upgrades always available. Thursday October 7 at 7 pm Reservation is at K. Hollis Jewelers\, 630.879.8003 147 S. Randall Road\, Batavia
X-ALT-DESC;FMTTYPE=text/html:Invite a couple of your friends and head over to K. Hollis Jewelers for an evening of bubbly and beads. The creative staff at K. Hollis will assist you in selecting your beads and designing a gorgeousset of earrings or a stunning bracelet while you sip on some bubbly and snacks. This may be your only chance to play in Karen’s Treasure Box! Space is limited. Reservations are required Earrings: $25Bracelet $40 Upgrades always available. Thursday October 7 at 7 pm Reservation is at K. Hollis Jewelers\, 630.879.8003 147 S. Randall Road\, Batavia   \n
LOCATION:K.Hollis Jewelers
UID:e.1902.55
SEQUENCE:3
DTSTAMP:20260420T041705Z
URL:https://business.bataviachamber.org/events/details/gibby-s-wine-den-bubbles-beads-10-07-2010-55
END:VEVENT

END:VCALENDAR
