BEGIN:VCALENDAR
VERSION:2.0
PRODID:-//ChamberMaster//Event Calendar 2.0//EN
METHOD:PUBLISH
X-PUBLISHED-TTL:P3D
REFRESH-INTERVAL:P3D
CALSCALE:GREGORIAN
BEGIN:VEVENT
DTSTART:20110303T060000Z
DTEND:20110303T060000Z
X-MICROSOFT-CDO-ALLDAYEVENT:FALSE
SUMMARY:Gibby's Wine Den ~ Blind Tasting
DESCRIPTION:Are you up for the challenge?\n\nRandy will lead attendees through a Blind Tasting. Let’s\nsee if wehave been paying attention during previous\nevents! Or maybe the discriminating palate of someone\nwill unlock the treasure. As with all great competitions\,\nprizes will be awarded.\n$30/person. Space is limited.\nReservations are required.\nPremium Event.
X-ALT-DESC;FMTTYPE=text/html:Are you up for the challenge?\n\nRandy will lead attendees through a Blind Tasting. Let’s\nsee if wehave been paying attention during previous\nevents! Or maybe the discriminating palate of someone\nwill unlock the treasure. As with all great competitions\,\nprizes will be awarded.\n$30/person. Space is limited.\nReservations are required.\nPremium Event.\n\n
LOCATION:Gibby's Wine Den
UID:e.1902.174
SEQUENCE:3
DTSTAMP:20260419T195447Z
URL:https://business.bataviachamber.org/events/details/gibby-s-wine-den-blind-tasting-03-03-2011-174
END:VEVENT

END:VCALENDAR
