BEGIN:VCALENDAR
VERSION:2.0
PRODID:-//ChamberMaster//Event Calendar 2.0//EN
METHOD:PUBLISH
X-PUBLISHED-TTL:P3D
REFRESH-INTERVAL:P3D
CALSCALE:GREGORIAN
BEGIN:VEVENT
DTSTART:20110819T050000Z
DTEND:20110819T050000Z
X-MICROSOFT-CDO-ALLDAYEVENT:FALSE
SUMMARY:Gibby's Wine Den ~ Bacchus Greets the Arts
DESCRIPTION:Join us tonight as we celebrate Bacchus\, Greek God of Wine while viewing an exhibit of fabulous works by area artists. Enjoy live musical entertainment from Denny King as you stroll through the aislesof art and wines from around the world.  Tonight we also feature a wine tasting of delicious winesto enjoy during these "Dog Daze of Summer".  There is a $2 fee for the wine tasting / art exhibit isa no charge event.
X-ALT-DESC;FMTTYPE=text/html:Join us tonight as we celebrate Bacchus\, Greek God of Wine while viewing an exhibit of fabulous works by area artists. Enjoy live musical entertainment from Denny King as you stroll through the aislesof art and wines from around the world.  Tonight we also feature a wine tasting of delicious winesto enjoy during these "Dog Daze of Summer".  There is a $2 fee for the wine tasting / art exhibit isa no charge event.
LOCATION:Gibby's Wine Den
UID:e.1902.331
SEQUENCE:3
DTSTAMP:20260423T072527Z
URL:https://business.bataviachamber.org/events/details/gibby-s-wine-den-bacchus-greets-the-arts-08-19-2011-331
END:VEVENT

END:VCALENDAR
