BEGIN:VCALENDAR
VERSION:2.0
PRODID:-//ChamberMaster//Event Calendar 2.0//EN
METHOD:PUBLISH
X-PUBLISHED-TTL:P3D
REFRESH-INTERVAL:P3D
CALSCALE:GREGORIAN
BEGIN:VEVENT
DTSTART:20100312T060000Z
DTEND:20100312T060000Z
X-MICROSOFT-CDO-ALLDAYEVENT:FALSE
SUMMARY:Gibby's Wine Den ~ Bacchus Greets the Arts
DESCRIPTION:Join us in celebrating Bacchus\, Greek God of Wine while viewing an excellent exhibit of fabulous pieces by area artists. Enjoy our wine by the glass\, offerings on our Tidbits menu and live musical entertainment while strolling through the aisles at Gibby’s.\nFriday March 12\, 5 - 8 p.m.\nThis is a no charge event. No reservations are required.
X-ALT-DESC;FMTTYPE=text/html:Join us in celebrating Bacchus\, Greek God of Wine while viewing an excellent exhibit of fabulous pieces by area artists. Enjoy our wine by the glass\, offerings on our Tidbits menu and live musical entertainment while strolling through the aisles at Gibby’s.\nFriday March 12\, 5 - 8 p.m.\nThis is a no charge event. No reservations are required.\n
LOCATION:Gibby's Wine Den
UID:e.1902.1118
SEQUENCE:3
DTSTAMP:20260424T125733Z
URL:https://business.bataviachamber.org/events/details/gibby-s-wine-den-bacchus-greets-the-arts-03-12-2010-1118
END:VEVENT

END:VCALENDAR
