BEGIN:VCALENDAR
VERSION:2.0
PRODID:-//ChamberMaster//Event Calendar 2.0//EN
METHOD:PUBLISH
X-PUBLISHED-TTL:P3D
REFRESH-INTERVAL:P3D
CALSCALE:GREGORIAN
BEGIN:VEVENT
DTSTART:20110128T060000Z
DTEND:20110128T060000Z
X-MICROSOFT-CDO-ALLDAYEVENT:FALSE
SUMMARY:Gibby's Wine Den ~ Bacchus Greets the Arts
DESCRIPTION:Join us for this salute to Bacchus\, Greek God of Wine. View works by local artists while enjoying live music\,and a glass of wine from our Wine Bar or take part in our wine tasting - sample featured wines for just $2.
X-ALT-DESC;FMTTYPE=text/html:Join us for this salute to Bacchus\, Greek God of Wine. View works by local artists while enjoying live music\,and a glass of wine from our Wine Bar or take part in our wine tasting - sample featured wines for just $2.
LOCATION:Gibby's Wine Den
UID:e.1902.117
SEQUENCE:3
DTSTAMP:20260419T230325Z
URL:https://business.bataviachamber.org/events/details/gibby-s-wine-den-bacchus-greets-the-arts-01-28-2011-117
END:VEVENT

END:VCALENDAR
