BEGIN:VCALENDAR
VERSION:2.0
PRODID:-//ChamberMaster//Event Calendar 2.0//EN
METHOD:PUBLISH
X-PUBLISHED-TTL:P3D
REFRESH-INTERVAL:P3D
CALSCALE:GREGORIAN
BEGIN:VEVENT
DTSTART:20101001T050000Z
DTEND:20101001T050000Z
X-MICROSOFT-CDO-ALLDAYEVENT:FALSE
SUMMARY:Gibby's Wine Den ~ Art By the Glass\, Grand Opening
DESCRIPTION:Gibby’s Wine Den is proud to announce "Art By the Glass\; A Creative Pairing"\, an exhibition of localarea artists. The first Friday of each month\, Gibby’s Wine Den will host an Art Opening for our exhibiting artist which will coincide with our weekly Friday’s @ 5 event that includes live music\, foodand wine tasting at our wine bar. Every Fridays@5 will also be an Open House for the artist’s artwork throughout the exhibition month. Artists may be available on these evenings to discuss their work. The October Opening is Friday October 1 from 5 – 8 pm
X-ALT-DESC;FMTTYPE=text/html:Gibby’s Wine Den is proud to announce "Art By the Glass\; A Creative Pairing"\, an exhibition of localarea artists. The first Friday of each month\, Gibby’s Wine Den will host an Art Opening for our exhibiting artist which will coincide with our weekly Friday’s @ 5 event that includes live music\, foodand wine tasting at our wine bar. Every Fridays@5 will also be an Open House for the artist’s artwork throughout the exhibition month. Artists may be available on these evenings to discuss their work. The October Opening is Friday October 1 from 5 – 8 pm
LOCATION:Gibby's Wine Den
UID:e.1902.53
SEQUENCE:3
DTSTAMP:20260420T054821Z
URL:https://business.bataviachamber.org/events/details/gibby-s-wine-den-art-by-the-glass-grand-opening-10-01-2010-53
END:VEVENT

END:VCALENDAR
