BEGIN:VCALENDAR
VERSION:2.0
PRODID:-//ChamberMaster//Event Calendar 2.0//EN
METHOD:PUBLISH
X-PUBLISHED-TTL:P3D
REFRESH-INTERVAL:P3D
CALSCALE:GREGORIAN
BEGIN:VEVENT
DTSTART:20111202T060000Z
DTEND:20111202T060000Z
X-MICROSOFT-CDO-ALLDAYEVENT:FALSE
SUMMARY:Gibby's Wine Den ~ Art By The Glass\, Exhibit Opening & Wine
DESCRIPTION:Meet our December Artist\, Valerie Lorimer and view her exhibit of whimsical paintings.The artist will be at Gibby’s Wine Den to talk about her work\, her artistic processes and the inspiration behind her colorful work. You can preview Valerie’s work on her website: www.valerielori mer.com\nJoin us tonight from 6:00 pm – 8:00 pm for an evening of Art\, Wine Tasting and Live Music by localmusicians.
X-ALT-DESC;FMTTYPE=text/html:Meet our December Artist\, Valerie Lorimer and view her exhibit of whimsical paintings.The artist will be at Gibby’s Wine Den to talk about her work\, her artistic processes and the inspiration behind her colorful work. You can preview Valerie’s work on her website: www.valerielori&#8203\;mer.com\nJoin us tonight from 6:00 pm – 8:00 pm for an evening of Art\, Wine Tasting and Live Music by localmusicians.
LOCATION:Gibby's Wine Den
UID:e.1902.447
SEQUENCE:3
DTSTAMP:20260423T001853Z
URL:https://business.bataviachamber.org/events/details/gibby-s-wine-den-art-by-the-glass-exhibit-opening-wine-12-02-2011-447
END:VEVENT

END:VCALENDAR
