BEGIN:VCALENDAR
VERSION:2.0
PRODID:-//ChamberMaster//Event Calendar 2.0//EN
METHOD:PUBLISH
X-PUBLISHED-TTL:P3D
REFRESH-INTERVAL:P3D
CALSCALE:GREGORIAN
BEGIN:VEVENT
DTSTART:20110805T050000Z
DTEND:20110805T050000Z
X-MICROSOFT-CDO-ALLDAYEVENT:FALSE
SUMMARY:Gibby's Wine Den ~ Art By The Glass\, Exhibit Opening & Wine
DESCRIPTION:Meet our August Artist\; Photographer Mary Solberg and check out her exhibit of amazing\nphotographs.Mary will be at Gibby’s Wine Den to talk about her photography\; the\nphotographic processes and theinspiration behind her work. Many of Mary’s pieces\ndepict wine\, the Napa Valley region\, and otherwine related subjects. Tonight\, we also feature live music from "The Pederson Players" and we continue our MidSummer's Night Wine Tasting Series with wines  "South of The Border".  It's a great Fridayat Gibby's!\n(There is a $2 fee for wine tasting)
X-ALT-DESC;FMTTYPE=text/html:Meet our August Artist\; Photographer Mary Solberg and check out her exhibit of amazing\nphotographs.Mary will be at Gibby’s Wine Den to talk about her photography\; the\nphotographic processes and theinspiration behind her work. Many of Mary’s pieces\ndepict wine\, the Napa Valley region\, and otherwine related subjects. Tonight\, we also feature live music from "The Pederson Players" and we continue our MidSummer's Night Wine Tasting Series with wines  "South of The Border".  It's a great Fridayat Gibby's!\n(There is a $2 fee for wine tasting)
LOCATION:Gibby's Wine Den
UID:e.1902.325
SEQUENCE:3
DTSTAMP:20260423T073141Z
URL:https://business.bataviachamber.org/events/details/gibby-s-wine-den-art-by-the-glass-exhibit-opening-wine-08-05-2011-325
END:VEVENT

END:VCALENDAR
