BEGIN:VCALENDAR
VERSION:2.0
PRODID:-//ChamberMaster//Event Calendar 2.0//EN
METHOD:PUBLISH
X-PUBLISHED-TTL:P3D
REFRESH-INTERVAL:P3D
CALSCALE:GREGORIAN
BEGIN:VEVENT
DTSTART:20110610T050000Z
DTEND:20110610T050000Z
X-MICROSOFT-CDO-ALLDAYEVENT:FALSE
SUMMARY:Gibby's Wine Den ~ Art By The Glass\, Exhibit Opening & Wine
DESCRIPTION:Join us tonight to view watercolorist Kathy Ludemann-Kuchle r’s work.. An evening of Art\, Wineand Music by local performer\, Dan Shanahan. from 5-8 pm. We will also be offering a Twilight Tasting opportunity featuring The Rhone Rangers of Paso Robles.                 \nThis is a no charge event / No reservations required / $2.00 tasting fee
X-ALT-DESC;FMTTYPE=text/html:Join us tonight to view watercolorist Kathy Ludemann-Kuchle&#8203\;r’s work.. An evening of Art\, Wineand Music by local performer\, Dan Shanahan. from 5-8 pm. We will also be offering a Twilight Tasting opportunity featuring The Rhone Rangers of Paso Robles.                 \nThis is a no charge event / No reservations required / $2.00 tasting fee\n
LOCATION:Gibby's Wine Den
UID:e.1902.259
SEQUENCE:3
DTSTAMP:20260423T105353Z
URL:https://business.bataviachamber.org/events/details/gibby-s-wine-den-art-by-the-glass-exhibit-opening-wine-06-10-2011-259
END:VEVENT

END:VCALENDAR
