BEGIN:VCALENDAR
VERSION:2.0
PRODID:-//ChamberMaster//Event Calendar 2.0//EN
METHOD:PUBLISH
X-PUBLISHED-TTL:P3D
REFRESH-INTERVAL:P3D
CALSCALE:GREGORIAN
BEGIN:VEVENT
DTSTART:20110506T050000Z
DTEND:20110506T050000Z
X-MICROSOFT-CDO-ALLDAYEVENT:FALSE
SUMMARY:Gibby's Wine Den ~ Art By The Glass\, Exhibit Opening & Wine
DESCRIPTION:Enjoy an evening of Art\, Wine and Music as we welcome local artist\, Al DaValle to Gibby's Art Gallery. View Al's photography while sipping a glass of wine from our by-the-glass menu or trying some newwines at our tasting tonight ($2 fee for tasting). Relax to the sounds of local musicians\, the Pedersen Players and wander through the aisles of wines from around the world.
X-ALT-DESC;FMTTYPE=text/html:Enjoy an evening of Art\, Wine and Music as we welcome local artist\, Al DaValle to Gibby's Art Gallery. View Al's photography while sipping a glass of wine from our by-the-glass menu or trying some newwines at our tasting tonight ($2 fee for tasting). Relax to the sounds of local musicians\, the Pedersen Players and wander through the aisles of wines from around the world.\n\n
LOCATION:Gibby's Wine Den
UID:e.1902.227
SEQUENCE:3
DTSTAMP:20260423T122308Z
URL:https://business.bataviachamber.org/events/details/gibby-s-wine-den-art-by-the-glass-exhibit-opening-wine-05-06-2011-227
END:VEVENT

END:VCALENDAR
