BEGIN:VCALENDAR
VERSION:2.0
PRODID:-//ChamberMaster//Event Calendar 2.0//EN
METHOD:PUBLISH
X-PUBLISHED-TTL:P3D
REFRESH-INTERVAL:P3D
CALSCALE:GREGORIAN
BEGIN:VEVENT
DTSTART:20110304T060000Z
DTEND:20110304T060000Z
X-MICROSOFT-CDO-ALLDAYEVENT:FALSE
SUMMARY:Gibby's Wine Den ~ Art By The Glass\, Exhibit Opening & Wine
DESCRIPTION:Meet our March Artist\, Mike Skoflanc and see his exhibit of creative constructions and mixed media paintings. Mike will be on hand speaking about his work and his artistic processes and inspirations.Enjoy live music and rich art while\nenjoying a glass of wine at our Wine Bar\, or taste several newwines at our Twilight Tasting for a nominal $2/person fee.
X-ALT-DESC;FMTTYPE=text/html:Meet our March Artist\, Mike Skoflanc and see his exhibit of creative constructions and mixed media paintings. Mike will be on hand speaking about his work and his artistic processes and inspirations.Enjoy live music and rich art while\nenjoying a glass of wine at our Wine Bar\, or taste several newwines at our Twilight Tasting for a nominal $2/person fee.\n\n
LOCATION:Gibby's Wine Den
UID:e.1902.175
SEQUENCE:3
DTSTAMP:20260419T193627Z
URL:https://business.bataviachamber.org/events/details/gibby-s-wine-den-art-by-the-glass-exhibit-opening-wine-03-04-2011-175
END:VEVENT

END:VCALENDAR
