BEGIN:VCALENDAR
VERSION:2.0
PRODID:-//ChamberMaster//Event Calendar 2.0//EN
METHOD:PUBLISH
X-PUBLISHED-TTL:P3D
REFRESH-INTERVAL:P3D
CALSCALE:GREGORIAN
BEGIN:VEVENT
DTSTART:20120302T060000Z
DTEND:20120302T060000Z
X-MICROSOFT-CDO-ALLDAYEVENT:FALSE
SUMMARY:Gibby's Wine Den ~ Art By The Glass\, Exhibit Opening & Wine
DESCRIPTION:Join us for this month's exhibit opening\, featuring Mixed Media Constructions by Sharyl Iwanski.  Anevening of Art\, Wine and Music by local performer\, Hallie Gaitsch. from 6-8 pm. Enjoy a Twilight Tasting. (In accordance with the Illinois Liquor Commission and the Geneva Police Department\, admission to the Tasting will be $5.00)
X-ALT-DESC;FMTTYPE=text/html:Join us for this month's exhibit opening\, featuring Mixed Media Constructions by Sharyl Iwanski.  Anevening of Art\, Wine and Music by local performer\, Hallie Gaitsch. from 6-8 pm. Enjoy a Twilight Tasting. (In accordance with the Illinois Liquor Commission and the Geneva Police Department\, admission to the Tasting will be $5.00)
LOCATION:Gibby's Wine Den
UID:e.1902.517
SEQUENCE:3
DTSTAMP:20260422T183829Z
URL:https://business.bataviachamber.org/events/details/gibby-s-wine-den-art-by-the-glass-exhibit-opening-wine-03-02-2012-517
END:VEVENT

END:VCALENDAR
