BEGIN:VCALENDAR
VERSION:2.0
PRODID:-//ChamberMaster//Event Calendar 2.0//EN
METHOD:PUBLISH
X-PUBLISHED-TTL:P3D
REFRESH-INTERVAL:P3D
CALSCALE:GREGORIAN
BEGIN:VEVENT
DTSTART:20110902T050000Z
DTEND:20110902T050000Z
X-MICROSOFT-CDO-ALLDAYEVENT:FALSE
SUMMARY:Gibby's Wine Den ~ Art By The Glass\, Artist Reception & Win
DESCRIPTION:Meet our September Artists\; Laverne Bohlin\, Bobbie Brown and Connie Devondorf and check out their exhibit of beautiful artworks. The artists will be at Gibby’s Wine Den to talk about their work\,\ntheir artistic processes and the inspirations behind their work. The artists use many\ndifferent media in their work including oil and soft pastel.Sip a glass of wine at our wine bar\, listen\nto live music and enjoy the artwork of these three talented artists at our next “Art by the Glass”Opening and Artists’ Reception!
X-ALT-DESC;FMTTYPE=text/html:Meet our September Artists\; Laverne Bohlin\, Bobbie Brown and Connie Devondorf and check out their exhibit of beautiful artworks. The artists will be at Gibby’s Wine Den to talk about their work\,\ntheir artistic processes and the inspirations behind their work. The artists use many\ndifferent media in their work including oil and soft pastel.Sip a glass of wine at our wine bar\, listen\nto live music and enjoy the artwork of these three talented artists at our next “Art by the Glass”Opening and Artists’ Reception!
LOCATION:Gibby's Wine Den
UID:e.1902.360
SEQUENCE:3
DTSTAMP:20260419T135407Z
URL:https://business.bataviachamber.org/events/details/gibby-s-wine-den-art-by-the-glass-artist-reception-win-09-02-2011-360
END:VEVENT

END:VCALENDAR
