BEGIN:VCALENDAR
VERSION:2.0
PRODID:-//ChamberMaster//Event Calendar 2.0//EN
METHOD:PUBLISH
X-PUBLISHED-TTL:P3D
REFRESH-INTERVAL:P3D
CALSCALE:GREGORIAN
BEGIN:VEVENT
DTSTART:20111104T050000Z
DTEND:20111104T050000Z
X-MICROSOFT-CDO-ALLDAYEVENT:FALSE
SUMMARY:Gibby's Wine Den ~ Art By the Glass Art Opening & Reception
DESCRIPTION:Gibby's welcomes our November artist\, Andria Burchett!  Gather your friends for a wonderful eveningof music\, art and wine!
X-ALT-DESC;FMTTYPE=text/html:Gibby's welcomes our November artist\, Andria Burchett!  Gather your friends for a wonderful eveningof music\, art and wine!
LOCATION:Gibby's Wine Den
UID:e.1902.429
SEQUENCE:3
DTSTAMP:20260423T021051Z
URL:https://business.bataviachamber.org/events/details/gibby-s-wine-den-art-by-the-glass-art-opening-reception-11-04-2011-429
END:VEVENT

END:VCALENDAR
