BEGIN:VCALENDAR
VERSION:2.0
PRODID:-//ChamberMaster//Event Calendar 2.0//EN
METHOD:PUBLISH
X-PUBLISHED-TTL:P3D
REFRESH-INTERVAL:P3D
CALSCALE:GREGORIAN
BEGIN:VEVENT
DTSTART:20120203T060000Z
DTEND:20120203T060000Z
X-MICROSOFT-CDO-ALLDAYEVENT:FALSE
SUMMARY:Gibby's Wine Den ~ Art By the Glass Art Opening & Reception
DESCRIPTION:Join us as we welcome our February artist\, William Worcester!  Talk with the artist\, listen to liveentertainment from James Schlicher and enjoy delicious wines by the glass
X-ALT-DESC;FMTTYPE=text/html:Join us as we welcome our February artist\, William Worcester!  Talk with the artist\, listen to liveentertainment from James Schlicher and enjoy delicious wines by the glass
LOCATION:Gibby's Wine Den
UID:e.1902.486
SEQUENCE:3
DTSTAMP:20260422T210249Z
URL:https://business.bataviachamber.org/events/details/gibby-s-wine-den-art-by-the-glass-art-opening-reception-02-03-2012-486
END:VEVENT

END:VCALENDAR
