BEGIN:VCALENDAR
VERSION:2.0
PRODID:-//ChamberMaster//Event Calendar 2.0//EN
METHOD:PUBLISH
X-PUBLISHED-TTL:P3D
REFRESH-INTERVAL:P3D
CALSCALE:GREGORIAN
BEGIN:VEVENT
DTSTART:20110204T060000Z
DTEND:20110204T060000Z
X-MICROSOFT-CDO-ALLDAYEVENT:FALSE
SUMMARY:Gibby's Wine Den ~ Art By the Glass Art Opening
DESCRIPTION:Join us at Gibby's this evening for the opening of Paula Kuehl's Art Exhibit. Paula will be available this evening to discuss her beautiful works on display at Gibby's this month. Enjoy wines by the glass and live entertainment...a great night at Gibby's!
X-ALT-DESC;FMTTYPE=text/html:Join us at Gibby's this evening for the opening of Paula Kuehl's Art Exhibit. Paula will be available this evening to discuss her beautiful works on display at Gibby's this month. Enjoy wines by the glass and live entertainment...a great night at Gibby's!
LOCATION:Gibby's Wine Den
UID:e.1902.126
SEQUENCE:3
DTSTAMP:20260423T170352Z
URL:https://business.bataviachamber.org/events/details/gibby-s-wine-den-art-by-the-glass-art-opening-02-04-2011-126
END:VEVENT

END:VCALENDAR
