BEGIN:VCALENDAR
VERSION:2.0
PRODID:-//ChamberMaster//Event Calendar 2.0//EN
METHOD:PUBLISH
X-PUBLISHED-TTL:P3D
REFRESH-INTERVAL:P3D
CALSCALE:GREGORIAN
BEGIN:VEVENT
DTSTART:20110107T060000Z
DTEND:20110107T060000Z
X-MICROSOFT-CDO-ALLDAYEVENT:FALSE
SUMMARY:Gibby's Wine Den ~ Art By the Glass Art Opening
DESCRIPTION:Meet our January Artist\, Jennifer Beslow of Water Street Studios and view her extraordinary exhibitof colorful expressionistic paintings. Jennifer will be on hand to speak about her paintings and artistic inspirations. Enjoy live music and lively art while enjoying a glass of wine at Gibby’s Wine Bar.
X-ALT-DESC;FMTTYPE=text/html:Meet our January Artist\, Jennifer Beslow of Water Street Studios and view her extraordinary exhibitof colorful expressionistic paintings. Jennifer will be on hand to speak about her paintings and artistic inspirations. Enjoy live music and lively art while enjoying a glass of wine at Gibby’s Wine Bar.
LOCATION:Gibby's Wine Den
UID:e.1902.112
SEQUENCE:3
DTSTAMP:20260419T230643Z
URL:https://business.bataviachamber.org/events/details/gibby-s-wine-den-art-by-the-glass-art-opening-01-07-2011-112
END:VEVENT

END:VCALENDAR
