BEGIN:VCALENDAR
VERSION:2.0
PRODID:-//ChamberMaster//Event Calendar 2.0//EN
METHOD:PUBLISH
X-PUBLISHED-TTL:P3D
REFRESH-INTERVAL:P3D
CALSCALE:GREGORIAN
BEGIN:VEVENT
DTSTART:20110819T050000Z
DTEND:20110819T050000Z
X-MICROSOFT-CDO-ALLDAYEVENT:FALSE
SUMMARY:Gibby's Wine Den ~ A Midsummer Night's Dream Wine Tasting
DESCRIPTION:Our summer wine tasting series continues tonight with the "Dog Daze of Summer"!  Whites are the temptress and reds\, the familair companion! Enjoy live musical entertainment by Denny King as well as our "Bacchus Greets The Arts" exhibit from many local artists! There is a $2 fee for wine tasting.
X-ALT-DESC;FMTTYPE=text/html:Our summer wine tasting series continues tonight with the "Dog Daze of Summer"!  Whites are the temptress and reds\, the familair companion! Enjoy live musical entertainment by Denny King as well as our "Bacchus Greets The Arts" exhibit from many local artists! There is a $2 fee for wine tasting.
LOCATION:Gibby's Wine Den
UID:e.1902.330
SEQUENCE:3
DTSTAMP:20260423T072704Z
URL:https://business.bataviachamber.org/events/details/gibby-s-wine-den-a-midsummer-night-s-dream-wine-tasting-08-19-2011-330
END:VEVENT

END:VCALENDAR
