BEGIN:VCALENDAR
VERSION:2.0
PRODID:-//ChamberMaster//Event Calendar 2.0//EN
METHOD:PUBLISH
X-PUBLISHED-TTL:P3D
REFRESH-INTERVAL:P3D
CALSCALE:GREGORIAN
BEGIN:VEVENT
DTSTART:20110805T050000Z
DTEND:20110805T050000Z
X-MICROSOFT-CDO-ALLDAYEVENT:FALSE
SUMMARY:Gibby's Wine Den ~ A Midsummer Night's Dream Wine Tasting
DESCRIPTION:Enjoy your Friday Night at Gibby’s Wine Den! Taste Chilean and Argentinian Wines as we\nsample winesfrom “South of the Border”\; part of our Mid-Summer Night’s Dream Summer\nTasting series. Sip a glass of wine at our wine bar\, listen to live music and enjoy Mary Solberg's beautiful photographs at our August Art by the Glass opening and Artists’ Reception!\n(There is a $2 fee for wine tasting)
X-ALT-DESC;FMTTYPE=text/html:Enjoy your Friday Night at Gibby’s Wine Den! Taste Chilean and Argentinian Wines as we\nsample winesfrom “South of the Border”\; part of our Mid-Summer Night’s Dream Summer\nTasting series. Sip a glass of wine at our wine bar\, listen to live music and enjoy Mary Solberg's beautiful photographs at our August Art by the Glass opening and Artists’ Reception!\n(There is a $2 fee for wine tasting)
LOCATION:Gibby's Wine Den
UID:e.1902.323
SEQUENCE:3
DTSTAMP:20260423T072703Z
URL:https://business.bataviachamber.org/events/details/gibby-s-wine-den-a-midsummer-night-s-dream-wine-tasting-08-05-2011-323
END:VEVENT

END:VCALENDAR
