BEGIN:VCALENDAR
VERSION:2.0
PRODID:-//ChamberMaster//Event Calendar 2.0//EN
METHOD:PUBLISH
X-PUBLISHED-TTL:P3D
REFRESH-INTERVAL:P3D
CALSCALE:GREGORIAN
BEGIN:VEVENT
DTSTART:20110624T050000Z
DTEND:20110624T050000Z
X-MICROSOFT-CDO-ALLDAYEVENT:FALSE
SUMMARY:Gibby's Wine Den ~ A Midsummer Night's Dream Wine Tasting
DESCRIPTION:What better dream can there be but a summer filled with wine tastings? At Gibby's Wine Den this summer each wine tasting will have a theme. This will encourage you to delve a bit deeper into the nuances of the region while enjoying a glimpse of the varietals from the area.  Tonight\, "It's Amore!" Italian wines are enjoyed so often with a meal. The influence of the culinary treats from each regionare consistent with the style of wine.\nThere is a $2 fee for wine tasting.
X-ALT-DESC;FMTTYPE=text/html:What better dream can there be but a summer filled with wine tastings? At Gibby's Wine Den this summer each wine tasting will have a theme. This will encourage you to delve a bit deeper into the nuances of the region while enjoying a glimpse of the varietals from the area.  Tonight\, "It's Amore!" Italian wines are enjoyed so often with a meal. The influence of the culinary treats from each regionare consistent with the style of wine.\nThere is a $2 fee for wine tasting.\n\n
LOCATION:Gibby's Wine Den
UID:e.1902.270
SEQUENCE:3
DTSTAMP:20260423T104840Z
URL:https://business.bataviachamber.org/events/details/gibby-s-wine-den-a-midsummer-night-s-dream-wine-tasting-06-24-2011-270
END:VEVENT

END:VCALENDAR
