BEGIN:VCALENDAR
VERSION:2.0
PRODID:-//ChamberMaster//Event Calendar 2.0//EN
METHOD:PUBLISH
X-PUBLISHED-TTL:P3D
REFRESH-INTERVAL:P3D
CALSCALE:GREGORIAN
BEGIN:VEVENT
DTSTART:20110610T050000Z
DTEND:20110610T050000Z
X-MICROSOFT-CDO-ALLDAYEVENT:FALSE
SUMMARY:Gibby's Wine Den ~ A Midsummer Night's Dream Wine Tasting
DESCRIPTION:What better dream can there be but a summer filled with wine tastings? At Gibby's Wine Den this summer each wine tasting will have a theme. This will encourage you to delve a bit deeper into the nuances of the region while enjoying a glimpse of the varietals from the area. Tonight it's "The Rhone Rangers of Paso Robles".  The climate and terror make it possible for the Rhone varietals to flourish.Most producers are enjoying an explosion of success in bringing a bit of France to California.\nThere is a $2 wine tasting fee.
X-ALT-DESC;FMTTYPE=text/html:What better dream can there be but a summer filled with wine tastings? At Gibby's Wine Den this summer each wine tasting will have a theme. This will encourage you to delve a bit deeper into the nuances of the region while enjoying a glimpse of the varietals from the area. Tonight it's "The Rhone Rangers of Paso Robles".  The climate and terror make it possible for the Rhone varietals to flourish.Most producers are enjoying an explosion of success in bringing a bit of France to California.\nThere is a $2 wine tasting fee.
LOCATION:Gibby's Wine Den
UID:e.1902.257
SEQUENCE:3
DTSTAMP:20260419T151644Z
URL:https://business.bataviachamber.org/events/details/gibby-s-wine-den-a-midsummer-night-s-dream-wine-tasting-06-10-2011-257
END:VEVENT

END:VCALENDAR
