BEGIN:VCALENDAR
VERSION:2.0
PRODID:-//ChamberMaster//Event Calendar 2.0//EN
METHOD:PUBLISH
X-PUBLISHED-TTL:P3D
REFRESH-INTERVAL:P3D
CALSCALE:GREGORIAN
BEGIN:VEVENT
DTSTART:20090717T050000Z
DTEND:20090717T050000Z
X-MICROSOFT-CDO-ALLDAYEVENT:FALSE
SUMMARY:Gibby's Wine Den ~ A Mid-Summer Night's Dream
DESCRIPTION:What a great way to celebrate the middle of summer\; strolling through the aisles at Gibby's Wine Densipping on tastes from hand selected vendors! In that spirit\, gather at Gibby's on Friday July 17\,2009 from 5 - 8 pm for a mid summer tasting. In addition to the Twilight Tasting\, Gibby's Wine Den will offer its own version of the Flea Market. Looking for a treasure? From vintage stuff to vintagewines\, Gibby's Wine Den will be dusting off an eclectic mix of items on the special tables and incentive pricing for select holiday items and other great bits and pieces will be available. The Flea Market will continue on Saturday July 18\, 2009 from 12 - 4. What a wonderful opportunity to relax\, have some fun\, and taste some excellent wines.
X-ALT-DESC;FMTTYPE=text/html:What a great way to celebrate the middle of summer\; strolling through the aisles at Gibby's Wine Densipping on tastes from hand selected vendors! In that spirit\, gather at Gibby's on Friday July 17\,2009 from 5 - 8 pm for a mid summer tasting. In addition to the Twilight Tasting\, Gibby's Wine Den will offer its own version of the Flea Market. Looking for a treasure? From vintage stuff to vintagewines\, Gibby's Wine Den will be dusting off an eclectic mix of items on the special tables and incentive pricing for select holiday items and other great bits and pieces will be available. The Flea Market will continue on Saturday July 18\, 2009 from 12 - 4. What a wonderful opportunity to relax\, have some fun\, and taste some excellent wines.
LOCATION:Gibby's Wine Den
UID:e.1902.965
SEQUENCE:3
DTSTAMP:20260421T070949Z
URL:https://business.bataviachamber.org/events/details/gibby-s-wine-den-a-mid-summer-night-s-dream-07-17-2009-965
END:VEVENT

END:VCALENDAR
