BEGIN:VCALENDAR
VERSION:2.0
PRODID:-//ChamberMaster//Event Calendar 2.0//EN
METHOD:PUBLISH
X-PUBLISHED-TTL:P3D
REFRESH-INTERVAL:P3D
CALSCALE:GREGORIAN
BEGIN:VEVENT
DTSTART:20100221T060000Z
DTEND:20100221T060000Z
X-MICROSOFT-CDO-ALLDAYEVENT:FALSE
SUMMARY:GIbby's Wine Den ~ A Bridal Girl's Night Out
DESCRIPTION:Enjoy appetizers and purchase wine by the glass while visiting with Geneva Bride wedding vendors. Enjoy wine from Gibby’s Wine Den\, jewelry from State Street Jewelers\, East Room’s fashions\, invitations from Invitations by Design\, up-do’s with\nMontage Salon and Veiled in Elegance’s unique veils\, sweets from Cocoa Bean\,\nexplore all that Mill Creek has to offer your wedding along with Bridal Eventsby\nCelebration Design and capture it all with E B Creative Photography!\nReserve your spot now - call 630-208-6424.
X-ALT-DESC;FMTTYPE=text/html:Enjoy appetizers and purchase wine by the glass while visiting with Geneva Bride wedding vendors. Enjoy wine from Gibby’s Wine Den\, jewelry from State Street Jewelers\, East Room’s fashions\, invitations from Invitations by Design\, up-do’s with\nMontage Salon and Veiled in Elegance’s unique veils\, sweets from Cocoa Bean\,\nexplore all that Mill Creek has to offer your wedding along with Bridal Eventsby\nCelebration Design and capture it all with E B Creative Photography!\nReserve your spot now - call 630-208-6424.\n \n\n
LOCATION:Gibby's Wine Den
UID:e.1902.1103
SEQUENCE:3
DTSTAMP:20260420T175729Z
URL:https://business.bataviachamber.org/events/details/gibby-s-wine-den-a-bridal-girl-s-night-out-02-21-2010-1103
END:VEVENT

END:VCALENDAR
