BEGIN:VCALENDAR
VERSION:2.0
PRODID:-//ChamberMaster//Event Calendar 2.0//EN
METHOD:PUBLISH
X-PUBLISHED-TTL:P3D
REFRESH-INTERVAL:P3D
CALSCALE:GREGORIAN
BEGIN:VEVENT
DTSTART:20110408T050000Z
DTEND:20110408T050000Z
X-MICROSOFT-CDO-ALLDAYEVENT:FALSE
SUMMARY:Gibby's Wine Den ~ 6th Anniversary Toast!
DESCRIPTION:Raise a glass with us as we celebrate our sixth anniversary!
X-ALT-DESC;FMTTYPE=text/html:Raise a glass with us as we celebrate our sixth anniversary!
LOCATION:Gibby's Wine Den
UID:e.1902.185
SEQUENCE:3
DTSTAMP:20260419T193616Z
URL:https://business.bataviachamber.org/events/details/gibby-s-wine-den-6th-anniversary-toast-04-08-2011-185
END:VEVENT

END:VCALENDAR
