BEGIN:VCALENDAR
VERSION:2.0
PRODID:-//ChamberMaster//Event Calendar 2.0//EN
METHOD:PUBLISH
X-PUBLISHED-TTL:P3D
REFRESH-INTERVAL:P3D
CALSCALE:GREGORIAN
BEGIN:VEVENT
DTSTART:20100409T050000Z
DTEND:20100409T050000Z
X-MICROSOFT-CDO-ALLDAYEVENT:FALSE
SUMMARY:Gibby's Wine Den ~ 5th Anniversary Toast
DESCRIPTION:March 24 Gibby’s Wine Den begins the sixth year of business! To celebrate the accomplishments of 5 years of business\, 5 years of providing service to our customers\, 5 years of finding new wines for usall to enjoy\, Gibby’s will be toasting at 8 p.m. on Friday April 9 following Flight I or UNCORKED.Stop in for\nour Wine Tasting and join us as we commemorate our fifth anniversary!
X-ALT-DESC;FMTTYPE=text/html:March 24 Gibby’s Wine Den begins the sixth year of business! To celebrate the accomplishments of 5 years of business\, 5 years of providing service to our customers\, 5 years of finding new wines for usall to enjoy\, Gibby’s will be toasting at 8 p.m. on Friday April 9 following Flight I or UNCORKED.Stop in for\nour Wine Tasting and join us as we commemorate our fifth anniversary!\n
LOCATION:Gibby's Wine Den
UID:e.1902.1140
SEQUENCE:3
DTSTAMP:20260420T144119Z
URL:https://business.bataviachamber.org/events/details/gibby-s-wine-den-5th-anniversary-toast-04-09-2010-1140
END:VEVENT

END:VCALENDAR
